BEGIN:VCALENDAR
PRODID:-//AT Content Types//AT Event//EN
VERSION:1.0
BEGIN:VEVENT
DTSTART:20240702T220000Z
DTEND:20240706T220000Z
DCREATED:20230919T142737Z
UID:ATEvent-0509daaea428496696ea16f53ff047e1
SEQUENCE:0
LAST-MODIFIED:20230920T104154Z
SUMMARY:Retraite de la province d'Irlande
LOCATION:Trosly\, France
PRIORITY:3
TRANSP:0
END:VEVENT
END:VCALENDAR
