BEGIN:VCALENDAR
PRODID:-//AT Content Types//AT Event//EN
VERSION:2.0
METHOD:PUBLISH
BEGIN:VEVENT
DTSTAMP:20260421T091504Z
CREATED:20250321T155454Z
UID:ATEvent-1aa2e78713b945a199c0eb171ede2875
LAST-MODIFIED:20250321T155519Z
SUMMARY:Session de formation en Norvège
DTSTART:20250508T220000Z
DTEND:20250510T220000Z
DESCRIPTION:Formation destinée aux coordinateurs des communautés de 
 Norvège. Thème : L'avenir de Foi et Lumière en Norvège. A cette fo
 rmation succèdera la réunion annuelle pendant laquelle sera présent
 ée le compte-rendu des vice-coordinateurs de province et le rapport f
 inancier du trésorier provincial.
LOCATION:Solsetra\, Drammen\, Norvège
CLASS:PUBLIC
END:VEVENT
END:VCALENDAR
