BEGIN:VCALENDAR
PRODID:-//AT Content Types//AT Event//EN
VERSION:1.0
BEGIN:VEVENT
DTSTART:20221110T230000Z
DTEND:20221112T230000Z
DCREATED:20221018T081039Z
UID:ATEvent-738aff17ff914db0a4f923e7fae379a6
SEQUENCE:0
LAST-MODIFIED:20221122T125833Z
SUMMARY:Session de formation Pologne Ouest
DESCRIPTION:pour les coordinateurs\, les trésoriers et les membres de
 s équipes de coordination.
LOCATION:Kalisz\, Pologne
PRIORITY:3
TRANSP:0
END:VEVENT
END:VCALENDAR
