BEGIN:VCALENDAR
PRODID:-//AT Content Types//AT Event//EN
VERSION:1.0
BEGIN:VEVENT
DTSTART:20240226T230000Z
DTEND:20240227T230000Z
DCREATED:20231129T083918Z
UID:ATEvent-e781c11b20a34df08a62f3e05de95902
SEQUENCE:0
LAST-MODIFIED:20231129T083919Z
SUMMARY:Session de formation pour les Vice-coordinateurs de la province Sainte Marie de Guadalupe
LOCATION:Chichuahua\, Mexique
PRIORITY:3
TRANSP:0
END:VEVENT
END:VCALENDAR
