BEGIN:VCALENDAR
PRODID:-//AT Content Types//AT Event//EN
VERSION:2.0
METHOD:PUBLISH
BEGIN:VEVENT
DTSTAMP:20260421T103040Z
CREATED:20250210T084022Z
UID:ATEvent-a9c4f0d30e324baa89a47db8097f1dd1
LAST-MODIFIED:20250210T084023Z
SUMMARY:Temps de renouveau spirituel pour les parents dans les communautés Foi et Lumière de Croatie
DTSTART:20250213T230000Z
DTEND:20250215T230000Z
LOCATION:Maison "Tabor" à Samobor près de Zagreb
CLASS:PUBLIC
END:VEVENT
END:VCALENDAR
