BEGIN:VCALENDAR
PRODID:-//AT Content Types//AT Event//EN
VERSION:1.0
BEGIN:VEVENT
DTSTART:20230809T220000Z
DTEND:20230811T220000Z
DCREATED:20230209T121303Z
UID:ATEvent-be3eb81fe86e4f9f8baf568c0bdb9266
SEQUENCE:0
LAST-MODIFIED:20230209T121340Z
SUMMARY:Temps de vacances de la communauté de Rakvere\, Estonie
LOCATION:Island Saaremaa Kihelkonna\, Estonie
PRIORITY:3
TRANSP:0
END:VEVENT
END:VCALENDAR
