BEGIN:VCALENDAR
PRODID:-//AT Content Types//AT Event//EN
VERSION:1.0
BEGIN:VEVENT
DTSTART:20230929T220000Z
DTEND:20230929T220000Z
DCREATED:20230904T104914Z
UID:ATEvent-34dc04c5bed948e9835cd3e0fb0c1457
SEQUENCE:0
LAST-MODIFIED:20231018T084745Z
SUMMARY:Together "veillée de prière œcuménique" à Rome
DESCRIPTION:Une délégation de membres de Foi et Lumière d'Italie\, 
 de Croatie et de Slovénie participera à l'événement\, et Raul\, co
 ordinateur international de Foi et Lumière\, partagera son témoignag
 e.
LOCATION:Rome\, Italie
PRIORITY:3
TRANSP:0
END:VEVENT
END:VCALENDAR
