BEGIN:VCALENDAR
PRODID:-//AT Content Types//AT Event//EN
VERSION:2.0
METHOD:PUBLISH
BEGIN:VEVENT
DTSTAMP:20260421T085838Z
CREATED:20230308T155036Z
UID:ATEvent-f3ac8619f90940d1bcab63d32f3d5c30
LAST-MODIFIED:20230308T155037Z
SUMMARY:Vacances pour la Slovénie (5/5)
DTSTART:20230826T220000Z
DTEND:20230831T220000Z
LOCATION:Portorož
CLASS:PUBLIC
END:VEVENT
END:VCALENDAR
