BEGIN:VCALENDAR
PRODID:-//AT Content Types//AT Event//EN
VERSION:2.0
METHOD:PUBLISH
BEGIN:VEVENT
DTSTAMP:20260421T102805Z
CREATED:20240219T094914Z
UID:ATEvent-83b469a84a4a485d804299c9f66664d8
LAST-MODIFIED:20240219T095743Z
SUMMARY:Veillée de prière et de louange
DTSTART:20240310T140000Z
DTEND:20240310T163000Z
DESCRIPTION:Thème : "Rends nous la joie d'être sauvés !"
LOCATION:Saint Nicolas des champs 254 rue saint Martin\, 75003 Paris
URL:https://dioceseparis.fr/veillee-de-priere-avec-les-62800.html
CLASS:PUBLIC
END:VEVENT
END:VCALENDAR
